Workbook

Sheet Sheet1
A1: Calling Center Performance Tracking
A2: Center | B2: Total call done | C2: Total call duration (second) | D2: KPIs of total resolved | E2: Total resolved | F2: Total number of staffs | G2: Training Budget Left | H2: Max salary for a staff
A3: Region 1 | B3: =COUNT('Region 1'!A2:A41) -> 40 | C3: =SUM('Region 1'!A2:A41) -> 19626 | D3: 20 | E3: =COUNTIF('Region 1'!B2:B41,1) -> 26 | F3: ='Region 1'!C2 -> 10 | G3: ='Region 1'!D2 -> 400 | H3: 300
A4: Region 2 | B4: =COUNT('Region 2'!A2:A41) -> 40 | C4: =SUM('Region 2'!A2:A41) -> 14118 | D4: 30 | E4: =COUNTIF('Region 2'!B2:B41,1) -> 33 | F4: ='Region 2'!C2 -> 23 | G4: ='Region 2'!D2 -> 600 | H4: 250
A5: Region 3 | B5: =COUNT('Region 3'!A2:A43) -> 42 | C5: =SUM('Region 3'!A2:A43) -> 17144 | D5: 35 | E5: =COUNTIF('Region 3'!B2:B43,1) -> 38 | F5: ='Region 3'!C2 -> 27 | G5: ='Region 3'!D2 -> 900 | H5: 500
A6: Region 4 | B6: =COUNT('Region 4'!A2:A41) -> 40 | C6: =SUM('Region 4'!A2:A41) -> 14580 | D6: 25 | E6: =COUNTIF('Region 4'!B2:B41,1) -> 29 | F6: ='Region 4'!C2 -> 8 | G6: ='Region 3'!D2 -> 900 | H6: 150
A7: Total | B7: =SUM(B3:B6) -> 162 | C7: =SUM(C3:C6) -> 65468 | D7: =SUM(D3:D6) -> 110 | E7: =SUM(E3:E6) -> 126 | F7: =SUM(F3:F6) -> 68 | G7: =SUM(G3:G6) -> 2800 | H7: =SUM(H3:H6) -> 1200
A8: Visualization section:

Sheet Region 1
A1: Call duration (second) | B1: Resolved | C1: Total Number Of Staffs | D1: Training Budget Left
A2: 30 | B2: 1 | C2: 10 | D2: 400
A3: 60 | B3: 1
A4: 120 | B4: 1
A5: 400 | B5: 0
A6: 445 | B6: 1
A7: 562 | B7: 1
A8: 679 | B8: 1
A9: 796 | B9: 0
A10: 913 | B10: 1
A11: 400 | B11: 0
A12: 400 | B12: 1
A13: 445 | B13: 1
A14: 30 | B14: 0
... A41: 445 | B41: 1

Sheet Region 2
A1: Call duration (second) | B1: Resolved | C1: Total Number Of Staffs | D1: Training Budget Left
A2: 445 | B2: 1 | C2: 23 | D2: 600
A3: 30 | B3: 1
A4: 60 | B4: 1
A5: 2 | B5: 0
A6: 400 | B6: 1
A7: 30 | B7: 1
A8: 60 | B8: 1
A9: 400 | B9: 1
A10: 30 | B10: 1
A11: 60 | B11: 1
A12: 400 | B12: 1
A13: 400 | B13: 1
A14: 2 | B14: 0
... A41: 5 | B41: 1

Sheet Region 3
A1: Call duration (second) | B1: Resolved | C1: Total Number Of Staffs | D1: Training Budget Left
A2: 30 | B2: 1 | C2: 27 | D2: 900
A3: 30 | B3: 1
A4: 60 | B4: 1
A5: 120 | B5: 1
A6: 400 | B6: 1
A7: 445 | B7: 1
A8: 562 | B8: 1
A9: 679 | B9: 1
A10: 913 | B10: 1
A11: 30 | B11: 1
A12: 2333 | B12: 1
A13: 120 | B13: 1
A14: 400 | B14: 1
... A43: 679 | B43: 1

Sheet Region 4
A1: Call duration (second) | B1: Resolved | C1: Total Number Of Staffs | D1: Training Budget Left
A2: 400 | B2: 1 | C2: 8 | D2: 300
A3: 400 | B3: 1
A4: 796 | B4: 1
A5: 30 | B5: 0
A6: 60 | B6: 1
A7: 796 | B7: 1
A8: 30 | B8: 1
A9: 60 | B9: 0
A10: 796 | B10: 1
A11: 400 | B11: 0
A12: 400 | B12: 1
A13: 445 | B13: 1
A14: 400 | B14: 1
... A41: 445 | B41: 1
